BEGIN:VCALENDAR
VERSION:2.0
PRODID:-//International Messengers Canada - ECPv6.15.17.1//NONSGML v1.0//EN
CALSCALE:GREGORIAN
METHOD:PUBLISH
X-WR-CALNAME:International Messengers Canada
X-ORIGINAL-URL:https://www.im-canada.ca
X-WR-CALDESC:Events for International Messengers Canada
REFRESH-INTERVAL;VALUE=DURATION:PT1H
X-Robots-Tag:noindex
X-PUBLISHED-TTL:PT1H
BEGIN:VTIMEZONE
TZID:America/Vancouver
BEGIN:DAYLIGHT
TZOFFSETFROM:-0800
TZOFFSETTO:-0700
TZNAME:PDT
DTSTART:20250309T100000
END:DAYLIGHT
BEGIN:STANDARD
TZOFFSETFROM:-0700
TZOFFSETTO:-0800
TZNAME:PST
DTSTART:20251102T090000
END:STANDARD
BEGIN:DAYLIGHT
TZOFFSETFROM:-0800
TZOFFSETTO:-0700
TZNAME:PDT
DTSTART:20260308T100000
END:DAYLIGHT
BEGIN:STANDARD
TZOFFSETFROM:-0700
TZOFFSETTO:-0800
TZNAME:PST
DTSTART:20261101T090000
END:STANDARD
BEGIN:DAYLIGHT
TZOFFSETFROM:-0800
TZOFFSETTO:-0700
TZNAME:PDT
DTSTART:20270314T100000
END:DAYLIGHT
BEGIN:STANDARD
TZOFFSETFROM:-0700
TZOFFSETTO:-0800
TZNAME:PST
DTSTART:20271107T090000
END:STANDARD
END:VTIMEZONE
BEGIN:VEVENT
DTSTART;TZID=America/Vancouver:20260707T000000
DTEND;TZID=America/Vancouver:20260717T235959
DTSTAMP:20260420T011320
CREATED:20260108T203000Z
LAST-MODIFIED:20260114T203947Z
UID:13041-1783382400-1784332799@www.im-canada.ca
SUMMARY:Egypt - Marriage/Family Camp
DESCRIPTION:July 7 – 17 \n\n\n\nEgypt – Youth Camp\n\n\n\nDo you have a heart for how God works in and through marriages and families?\n\n\n\n\n\n\n\n\n\n\n\n\n\n\n\nDo you have a heart for how God works in and through marriages and families? Join us for the 2026 summer ministry in Egypt\, July 7-17. We will work with our in-country missionaries and serve married couples and their families. You will lead Bible studies\, small group discussions\, and join Egyptian families as they worship and enjoy fellowship. If you have a story of how God has worked in your marriage and family\, God needs you to go and tell it in Egypt. \n\n\n\nThe cost of the trip is $1800 plus airfare for each person. The $1800 includes your lodging\, food\, in-country transportation\, and medical insurance. You will need a valid passport that doesn’t expire within 6 months of the trip date. You do not need any vaccines to enter Egypt and we will help you get your visa when you enter the country. \n\n\n\nBring along your spouse and your family! We look forward to serving with you. \n\n\n\n\n\nDetails\n\n\n\n\n\nCost: 1\,800 + Airfare  \n\n\n\nClick here to apply\n\nIf you live in the USA\, click here to apply
URL:https://www.im-canada.ca/event/egypt-sudanese-refugee-kids-ministry/
CATEGORIES:MISSION TRIP
ATTACH;FMTTYPE=image/png:https://www.im-canada.ca/wp-content/uploads/marriage.png
END:VEVENT
END:VCALENDAR