BEGIN:VCALENDAR
VERSION:2.0
PRODID:-//International Messengers Canada - ECPv6.15.17.1//NONSGML v1.0//EN
CALSCALE:GREGORIAN
METHOD:PUBLISH
X-ORIGINAL-URL:https://www.im-canada.ca
X-WR-CALDESC:Events for International Messengers Canada
REFRESH-INTERVAL;VALUE=DURATION:PT1H
X-Robots-Tag:noindex
X-PUBLISHED-TTL:PT1H
BEGIN:VTIMEZONE
TZID:America/Vancouver
BEGIN:DAYLIGHT
TZOFFSETFROM:-0800
TZOFFSETTO:-0700
TZNAME:PDT
DTSTART:20250309T100000
END:DAYLIGHT
BEGIN:STANDARD
TZOFFSETFROM:-0700
TZOFFSETTO:-0800
TZNAME:PST
DTSTART:20251102T090000
END:STANDARD
BEGIN:DAYLIGHT
TZOFFSETFROM:-0800
TZOFFSETTO:-0700
TZNAME:PDT
DTSTART:20260308T100000
END:DAYLIGHT
BEGIN:STANDARD
TZOFFSETFROM:-0700
TZOFFSETTO:-0800
TZNAME:PST
DTSTART:20261101T090000
END:STANDARD
BEGIN:DAYLIGHT
TZOFFSETFROM:-0800
TZOFFSETTO:-0700
TZNAME:PDT
DTSTART:20270314T100000
END:DAYLIGHT
BEGIN:STANDARD
TZOFFSETFROM:-0700
TZOFFSETTO:-0800
TZNAME:PST
DTSTART:20271107T090000
END:STANDARD
END:VTIMEZONE
BEGIN:VEVENT
DTSTART;TZID=America/Vancouver:20260707T000000
DTEND;TZID=America/Vancouver:20260717T235959
DTSTAMP:20260420T011730
CREATED:20260108T203000Z
LAST-MODIFIED:20260114T203947Z
UID:13041-1783382400-1784332799@www.im-canada.ca
SUMMARY:Egypt - Marriage/Family Camp
DESCRIPTION:July 7 – 17 \n\n\n\nEgypt – Youth Camp\n\n\n\nDo you have a heart for how God works in and through marriages and families?\n\n\n\n\n\n\n\n\n\n\n\n\n\n\n\nDo you have a heart for how God works in and through marriages and families? Join us for the 2026 summer ministry in Egypt\, July 7-17. We will work with our in-country missionaries and serve married couples and their families. You will lead Bible studies\, small group discussions\, and join Egyptian families as they worship and enjoy fellowship. If you have a story of how God has worked in your marriage and family\, God needs you to go and tell it in Egypt. \n\n\n\nThe cost of the trip is $1800 plus airfare for each person. The $1800 includes your lodging\, food\, in-country transportation\, and medical insurance. You will need a valid passport that doesn’t expire within 6 months of the trip date. You do not need any vaccines to enter Egypt and we will help you get your visa when you enter the country. \n\n\n\nBring along your spouse and your family! We look forward to serving with you. \n\n\n\n\n\nDetails\n\n\n\n\n\nCost: 1\,800 + Airfare  \n\n\n\nClick here to apply\n\nIf you live in the USA\, click here to apply
URL:https://www.im-canada.ca/event/egypt-sudanese-refugee-kids-ministry/
CATEGORIES:MISSION TRIP
ATTACH;FMTTYPE=image/png:https://www.im-canada.ca/wp-content/uploads/marriage.png
END:VEVENT
BEGIN:VEVENT
DTSTART;TZID=America/Vancouver:20260717T000000
DTEND;TZID=America/Vancouver:20260725T235959
DTSTAMP:20260420T011730
CREATED:20250316T205052Z
LAST-MODIFIED:20260218T213045Z
UID:12927-1784246400-1785023999@www.im-canada.ca
SUMMARY:Egypt - Young Women's English/Discipleship Camp
DESCRIPTION:July 17 – 25\, 2026 \n\n\n\nEgypt – Youth Camp\n\n\n\nAre you someone who loves to minister to young women?\n\n\n\n\n\n\n\n\n\n\n\n\n\n\n\nAre you someone who loves to minister to teen girls?  We need you! Come serve alongside our in-country missionaries to disciple Egyptian teenage girls. This trip is all about sharing love and Bible wisdom with teen girls\, helping them to strengthen their walk with the Lord through your own faith. You will teach Bible studies\, lead small group discussions\, pray\, play games\, do crafts\, and share your heart in ways that impact the Kingdom.   \n\n\n\nThe trip dates are July 17 to July 25.  The cost is approximately $1\,800 plus airfare. The 41\,800 covers your meals\, lodging\, medical insurance and in-country transportation.  You do not need any vaccines to enter Egypt on a visa that you will purchase for USD $25 when you land in Cairo.   \n\n\n\nJoin us for July in Egypt. \n\n\n\n\n\nDetails\n\n\n\n\n\nCost: $1\,800 + airfare \n\n\n\nClick here to apply\n\nIf you live in the USA\, click here to apply
URL:https://www.im-canada.ca/event/hungary-evangelistic-english-day-camp-szokolya/
CATEGORIES:MISSION TRIP
ATTACH;FMTTYPE=image/jpeg:https://www.im-canada.ca/wp-content/uploads/ladies-1024x683-1.jpg
END:VEVENT
BEGIN:VEVENT
DTSTART;TZID=America/Vancouver:20260717T000000
DTEND;TZID=America/Vancouver:20260726T235959
DTSTAMP:20260420T011730
CREATED:20250331T171833Z
LAST-MODIFIED:20260108T210145Z
UID:13097-1784246400-1785110399@www.im-canada.ca
SUMMARY:Egypt - Family English Camp
DESCRIPTION:July 17 – July 26 \n\n\n\nEgypt – Youth Camp\n\n\n\nHelp us bring Jesus to Egypt.\n\n\n\n\n\n\n\n\n\n\n\n\n\n\n\nJoin us in Egypt for your summer vacation July 17\, 2026 – July 26\, 2026. We will serve alongside our in-country missionaries to host a Family English Camp. Don’t stop reading because you aren’t a teacher. If you love Jesus\, and speak English\, you are well-qualified to serve on our team. \n\n\n\nYou will lead Bible studies\, lead small group conversation time\, play English games\, worship\, and have rich times of fellowship with Egyptian families. We provide the translators and all the materials you will need to serve. We will get your plane tickets and help you get your visa to enter Egypt. You don’t need any vaccines\, only a valid passport. The cost is $1\,800 plus airfare. The $1\,800 includes all lodging\, meals\, medical insurance\, and in-country transportation. \n\n\n\nHelp us bring Jesus to Egypt. \n\n\n\n\n\nDetails\n\n\n\n\n\nCost: $1\,800 + Airfare \n\n\n\nClick here to apply\n\nIf you live in the USA\, click here to apply
URL:https://www.im-canada.ca/event/egypt-marriage-parenting/
CATEGORIES:MISSION TRIP
ATTACH;FMTTYPE=image/jpeg:https://www.im-canada.ca/wp-content/uploads/July-Jordyn-and-Whitney-went-to-Egypt-for-Kids-Camp-1024x768-2.jpg
END:VEVENT
END:VCALENDAR