BEGIN:VCALENDAR
VERSION:2.0
PRODID:-//International Messengers Canada - ECPv6.15.17.1//NONSGML v1.0//EN
CALSCALE:GREGORIAN
METHOD:PUBLISH
X-WR-CALNAME:International Messengers Canada
X-ORIGINAL-URL:https://www.im-canada.ca
X-WR-CALDESC:Events for International Messengers Canada
REFRESH-INTERVAL;VALUE=DURATION:PT1H
X-Robots-Tag:noindex
X-PUBLISHED-TTL:PT1H
BEGIN:VTIMEZONE
TZID:America/Vancouver
BEGIN:DAYLIGHT
TZOFFSETFROM:-0800
TZOFFSETTO:-0700
TZNAME:PDT
DTSTART:20250309T100000
END:DAYLIGHT
BEGIN:STANDARD
TZOFFSETFROM:-0700
TZOFFSETTO:-0800
TZNAME:PST
DTSTART:20251102T090000
END:STANDARD
BEGIN:DAYLIGHT
TZOFFSETFROM:-0800
TZOFFSETTO:-0700
TZNAME:PDT
DTSTART:20260308T100000
END:DAYLIGHT
BEGIN:STANDARD
TZOFFSETFROM:-0700
TZOFFSETTO:-0800
TZNAME:PST
DTSTART:20261101T090000
END:STANDARD
BEGIN:DAYLIGHT
TZOFFSETFROM:-0800
TZOFFSETTO:-0700
TZNAME:PDT
DTSTART:20270314T100000
END:DAYLIGHT
BEGIN:STANDARD
TZOFFSETFROM:-0700
TZOFFSETTO:-0800
TZNAME:PST
DTSTART:20271107T090000
END:STANDARD
END:VTIMEZONE
BEGIN:VEVENT
DTSTART;TZID=America/Vancouver:20260625T000000
DTEND;TZID=America/Vancouver:20260707T235959
DTSTAMP:20260420T040658
CREATED:20250326T220941Z
LAST-MODIFIED:20260218T221458Z
UID:13088-1782345600-1783468799@www.im-canada.ca
SUMMARY:Uganda - Kids' Camp/VBS
DESCRIPTION:June 25 – July 7\, 2026 \n\n\n\nEgypt – Youth Camp\n\n\n\nWhat a way to finish your summer with God!\n\n\n\n\n\n\n\n\n\n\n\n\n\n\n\nSpend your 4th of July holiday in Uganda with us. Join us for a kids’ camp done VBS-style while we build a playground. You will lead times of Bible storytelling\, worship\, play games\, and giving lots of love to kids in Uganda. We will help you sort through travel and planning\, and we will train you and the team for your mission.  Just bring your love for Jesus and for kids who need a lifelong journey with the Lord.  \n\n\n\nYou will leave on June 25 and return on July 7.  The trip cost is approximately $1\,400 plus airfare. The $1\,400 covers your lodging\, meals\, medical insurance and in-country travel.  We will help you secure your visa to enter Uganda. You will need a yellow fever vaccine to enter the country. \n\n\n\nThe kids in Uganda await your love! \n\n\n\n\n\nDetails\n\n\n\n\n\nCost: $1\,400 + Airfare \n\n\n\nClick here to apply\n\nIf you live in the USA\, click here to apply
URL:https://www.im-canada.ca/event/hungary-evangelistic-english-softball-ministry-zirc/
CATEGORIES:MISSION TRIP
ATTACH;FMTTYPE=image/jpeg:https://www.im-canada.ca/wp-content/uploads/11-Busana-Kids-980x551-1.jpg
END:VEVENT
BEGIN:VEVENT
DTSTART;TZID=America/Vancouver:20260624T000000
DTEND;TZID=America/Vancouver:20260707T235959
DTSTAMP:20260420T040658
CREATED:20241015T192218Z
LAST-MODIFIED:20260226T201136Z
UID:9567-1782259200-1783468799@www.im-canada.ca
SUMMARY:Slovakia - Evangelistic Family English Camp (Kosice)
DESCRIPTION:June 24 – July 7\, 2026 \n\n\n\nEgypt – Youth Camp\n\n\n\nWhat a way to finish your summer with God!\n\n\n\n\n\n\n\n\n\n\n\n\n\n\n\nNeed a way to spend your 4th of July holiday? Come and serve with us in Slovakia\, June 24 to July 7.  You will serve alongside our in-country missionaries to host an Evangelistic Family English Camp. You will teach English\, lead Bible studies in English (with translation)\, worship\, play English games\, and fellowship with Slovakian families.   \n\n\n\nDon’t feel like you can teach English? No problem!  We have all the curriculum and games. If you speak English\, and love Jesus\, you are already qualified. And maybe you are single? No problem! There will be many women and men attending who need Jesus\, no matter their marital status. \n\n\n\n\n\nDetails\n\n\n\n\n\nCost: $1\,600 + Airfare \n\n\n\nClick here to apply\n\nIf you live in the USA\, click here to apply\n\n\n\n\n\n<< All Events
URL:https://www.im-canada.ca/event/slovakia-evangelistic-english-camp/
CATEGORIES:MISSION TRIP
ATTACH;FMTTYPE=image/jpeg:https://www.im-canada.ca/wp-content/uploads/slovakiacamp-980x531-1.jpg
ORGANIZER;CN="Community Outreach":MAILTO:info@communityoutreach.org
END:VEVENT
BEGIN:VEVENT
DTSTART;TZID=America/Vancouver:20260620T000000
DTEND;TZID=America/Vancouver:20260628T235959
DTSTAMP:20260420T040658
CREATED:20250327T161133Z
LAST-MODIFIED:20260218T213348Z
UID:13111-1781913600-1782691199@www.im-canada.ca
SUMMARY:Egypt - Sudanese Teens Discipleship
DESCRIPTION:June 20 – 28\, 2026 \n\n\n\nEgypt – Youth Camp\n\n\n\nWhat a way to finish your summer with God!\n\n\n\n\n\n\n\n\n\n\n\n\n\n\n\nDo you have a heart for Sudanese refugees in Egypt? We need you!  Come serve alongside our in-country missionaries to disciple Sudanese teenagers displaced in Egypt. This trip is all about pouring into these Sudanese kids\, helping them strengthen their walk with the Lord through your own faith. You will teach Bible studies\, lead small group discussions\, pray\, play games\, do crafts\, and share your love in ways that impact the Kingdom.   \n\n\n\nThe trip dates are June 20-28.  The cost is approximately $1\,800 plus airfare. The $1\,800 covers all your meals\, lodging\, medical insurance and in-country transportation.  You do not need any vaccines to enter Egypt on a visa that you will purchase for USD $25 when you land in Cairo.   \n\n\n\nCome and serve with us in Egypt. \n\n\n\n\n\nDetails\n\n\n\n\n\nCost: $1\,800 + Airfare \n\n\n\nClick here to apply\n\nIf you live in the USA\, click here to apply
URL:https://www.im-canada.ca/event/vbs-village-outreach-uganda-gulu/
CATEGORIES:MISSION TRIP
ATTACH;FMTTYPE=image/jpeg:https://www.im-canada.ca/wp-content/uploads/sudanese2-980x670-1.jpg
END:VEVENT
BEGIN:VEVENT
DTSTART;TZID=America/Vancouver:20260129T000000
DTEND;TZID=America/Vancouver:20260216T235959
DTSTAMP:20260420T040658
CREATED:20251022T194754Z
LAST-MODIFIED:20251205T201826Z
UID:13397-1769644800-1771286399@www.im-canada.ca
SUMMARY:Uganda - Village Evangelism/Discipleship
DESCRIPTION:January 29 – February 16 \n\n\n\nEgypt – Youth Camp\n\n\n\nWhat a way to finish your summer with God!\n\n\n\n\n\n\n\n\n\n\n\n\n\n\n\nJoin us as we bring the gospel to Uganda.  This trip will bring evangelism and discipleship side-by-side as we travel through villages sharing Jesus.  You will be able to invite your new village friends to a church to hear Bible stories\, testimonies\, and begin their relationship with Jesus.  Alongside our in-country staff\, you will lead group discussions as well as games and activities that will help build relationships with the people in Uganda.     \n\n\n\nWe leave the US on January 29\, 2026 and return on February 16\, 2026.  The cost is 1\,650 plus airfare. The $1\,650 includes your lodging\, meals\, medical insurance\, and in-country transportation.  We will help you secure your visa for entry. You will also need to get a yellow fever vaccination to serve on this mission trip.  \n\n\n\nCome and impact the Kingdom and enhance your faith in Uganda. \n\n\n\n\n\nDetails\n\n\n\n\n\nCost: $1\,650 + airfare \n\n\n\nClick here to apply\n\nIf you live in the USA\, click here to apply
URL:https://www.im-canada.ca/event/uganda-village-evangelism-discipleship/
CATEGORIES:MISSION TRIP
ATTACH;FMTTYPE=image/jpeg:https://www.im-canada.ca/wp-content/uploads/3rd-location-980x735-1.jpg
END:VEVENT
END:VCALENDAR